BEGIN:VCALENDAR
VERSION:2.0
PRODID:-//www.feuerwehr-wolfsberg.at - ECPv6.15.17.1//NONSGML v1.0//EN
CALSCALE:GREGORIAN
METHOD:PUBLISH
X-ORIGINAL-URL:https://www.feuerwehr-wolfsberg.at
X-WR-CALDESC:Veranstaltungen für www.feuerwehr-wolfsberg.at
REFRESH-INTERVAL;VALUE=DURATION:PT1H
X-Robots-Tag:noindex
X-PUBLISHED-TTL:PT1H
BEGIN:VTIMEZONE
TZID:Europe/Berlin
BEGIN:DAYLIGHT
TZOFFSETFROM:+0100
TZOFFSETTO:+0200
TZNAME:CEST
DTSTART:20250330T010000
END:DAYLIGHT
BEGIN:STANDARD
TZOFFSETFROM:+0200
TZOFFSETTO:+0100
TZNAME:CET
DTSTART:20251026T010000
END:STANDARD
BEGIN:DAYLIGHT
TZOFFSETFROM:+0100
TZOFFSETTO:+0200
TZNAME:CEST
DTSTART:20260329T010000
END:DAYLIGHT
BEGIN:STANDARD
TZOFFSETFROM:+0200
TZOFFSETTO:+0100
TZNAME:CET
DTSTART:20261025T010000
END:STANDARD
BEGIN:DAYLIGHT
TZOFFSETFROM:+0100
TZOFFSETTO:+0200
TZNAME:CEST
DTSTART:20270328T010000
END:DAYLIGHT
BEGIN:STANDARD
TZOFFSETFROM:+0200
TZOFFSETTO:+0100
TZNAME:CET
DTSTART:20271031T010000
END:STANDARD
END:VTIMEZONE
BEGIN:VEVENT
DTSTART;TZID=Europe/Berlin:20260613T190000
DTEND;TZID=Europe/Berlin:20260613T220000
DTSTAMP:20260423T235916
CREATED:20251209T150842Z
LAST-MODIFIED:20251209T150842Z
UID:22846-1781377200-1781388000@www.feuerwehr-wolfsberg.at
SUMMARY:Feuerwehr Fest Gräbern
DESCRIPTION:BM Fontano
URL:https://www.feuerwehr-wolfsberg.at/veranstaltung/feuerwehr-fest-graebern/
CATEGORIES:Veranstaltungen
END:VEVENT
BEGIN:VEVENT
DTSTART;TZID=Europe/Berlin:20260615T190000
DTEND;TZID=Europe/Berlin:20260615T210000
DTSTAMP:20260423T235916
CREATED:20251209T150941Z
LAST-MODIFIED:20251209T150941Z
UID:22849-1781550000-1781557200@www.feuerwehr-wolfsberg.at
SUMMARY:Übung GRKDT Gefährliche Stoffe
DESCRIPTION:LM Sabitzer\nOFM Klöcker
URL:https://www.feuerwehr-wolfsberg.at/veranstaltung/uebung-grkdt-gefaehrliche-stoffe/
CATEGORIES:Übungen
END:VEVENT
BEGIN:VEVENT
DTSTART;TZID=Europe/Berlin:20260625T190000
DTEND;TZID=Europe/Berlin:20260625T210000
DTSTAMP:20260423T235916
CREATED:20251209T151110Z
LAST-MODIFIED:20251209T151110Z
UID:22853-1782414000-1782421200@www.feuerwehr-wolfsberg.at
SUMMARY:Übung Jungfeuerwehrmänner
DESCRIPTION:OLM Eberhard\nBI Schauer
URL:https://www.feuerwehr-wolfsberg.at/veranstaltung/uebung-jungfeuerwehrmaenner-7/
CATEGORIES:Übungen
END:VEVENT
BEGIN:VEVENT
DTSTART;TZID=Europe/Berlin:20260628T100000
DTEND;TZID=Europe/Berlin:20260628T140000
DTSTAMP:20260423T235916
CREATED:20251209T151209Z
LAST-MODIFIED:20251209T151209Z
UID:22855-1782640800-1782655200@www.feuerwehr-wolfsberg.at
SUMMARY:Feuerwehrfest Reideben
DESCRIPTION:OBI Kainz-Pauscha
URL:https://www.feuerwehr-wolfsberg.at/veranstaltung/feuerwehrfest-reideben-2/
CATEGORIES:Veranstaltungen
END:VEVENT
BEGIN:VEVENT
DTSTART;TZID=Europe/Berlin:20260629T190000
DTEND;TZID=Europe/Berlin:20260629T210000
DTSTAMP:20260423T235916
CREATED:20251209T151300Z
LAST-MODIFIED:20251209T151300Z
UID:22857-1782759600-1782766800@www.feuerwehr-wolfsberg.at
SUMMARY:Übung ZGKDT Gefährliche Stoffe Stadionbad
DESCRIPTION:OBM Schütz
URL:https://www.feuerwehr-wolfsberg.at/veranstaltung/uebung-zgkdt-gefaehrliche-stoffe-stadionbad/
CATEGORIES:Übungen
END:VEVENT
BEGIN:VEVENT
DTSTART;VALUE=DATE:20260703
DTEND;VALUE=DATE:20260706
DTSTAMP:20260423T235916
CREATED:20251209T151411Z
LAST-MODIFIED:20251209T151411Z
UID:22859-1783036800-1783295999@www.feuerwehr-wolfsberg.at
SUMMARY:Feuerwehrausflug
DESCRIPTION:Kameradschaftsführung
URL:https://www.feuerwehr-wolfsberg.at/veranstaltung/feuerwehrausflug-2/
CATEGORIES:Veranstaltungen
END:VEVENT
BEGIN:VEVENT
DTSTART;TZID=Europe/Berlin:20260704T190000
DTEND;TZID=Europe/Berlin:20260704T220000
DTSTAMP:20260423T235916
CREATED:20251209T151506Z
LAST-MODIFIED:20251209T151506Z
UID:22861-1783191600-1783202400@www.feuerwehr-wolfsberg.at
SUMMARY:Feuerwehrfest St.Margarethen
DESCRIPTION:OBI Kainz-Pauscha
URL:https://www.feuerwehr-wolfsberg.at/veranstaltung/feuerwehrfest-st-margarethen-2/
CATEGORIES:Veranstaltungen
END:VEVENT
BEGIN:VEVENT
DTSTART;TZID=Europe/Berlin:20260711T190000
DTEND;TZID=Europe/Berlin:20260711T220000
DTSTAMP:20260423T235916
CREATED:20251209T151022Z
LAST-MODIFIED:20251217T142523Z
UID:22851-1783796400-1783807200@www.feuerwehr-wolfsberg.at
SUMMARY:Feuerwehrfest St.Stefan
DESCRIPTION:OBM Schütz
URL:https://www.feuerwehr-wolfsberg.at/veranstaltung/feuerwehrfest-st-stefan-2/
CATEGORIES:Veranstaltungen
END:VEVENT
BEGIN:VEVENT
DTSTART;TZID=Europe/Berlin:20260718T190000
DTEND;TZID=Europe/Berlin:20260718T220000
DTSTAMP:20260423T235916
CREATED:20251209T151548Z
LAST-MODIFIED:20251209T151548Z
UID:22863-1784401200-1784412000@www.feuerwehr-wolfsberg.at
SUMMARY:Feuerwehrfest St.Marein
DESCRIPTION:ABI Gerak
URL:https://www.feuerwehr-wolfsberg.at/veranstaltung/feuerwehrfest-st-marein-2/
CATEGORIES:Veranstaltungen
END:VEVENT
BEGIN:VEVENT
DTSTART;TZID=Europe/Berlin:20260831T190000
DTEND;TZID=Europe/Berlin:20260831T210000
DTSTAMP:20260423T235916
CREATED:20251209T151646Z
LAST-MODIFIED:20251209T151646Z
UID:22865-1788202800-1788210000@www.feuerwehr-wolfsberg.at
SUMMARY:Übung GRKDT Brand LKH Wolfsberg
DESCRIPTION:OLM Eberhard\nBI Schauer
URL:https://www.feuerwehr-wolfsberg.at/veranstaltung/uebung-grkdt-brand-lkh-wolfsberg/
CATEGORIES:Übungen
END:VEVENT
BEGIN:VEVENT
DTSTART;TZID=Europe/Berlin:20260905T190000
DTEND;TZID=Europe/Berlin:20260905T220000
DTSTAMP:20260423T235916
CREATED:20251209T151731Z
LAST-MODIFIED:20251209T151731Z
UID:22867-1788634800-1788645600@www.feuerwehr-wolfsberg.at
SUMMARY:Feuerwehrfest St.Michael
DESCRIPTION:HBM Stangl
URL:https://www.feuerwehr-wolfsberg.at/veranstaltung/feuerwehrfest-st-michael-2/
CATEGORIES:Veranstaltungen
END:VEVENT
BEGIN:VEVENT
DTSTART;TZID=Europe/Berlin:20260910T190000
DTEND;TZID=Europe/Berlin:20260910T210000
DTSTAMP:20260423T235916
CREATED:20251209T151836Z
LAST-MODIFIED:20251209T151836Z
UID:22869-1789066800-1789074000@www.feuerwehr-wolfsberg.at
SUMMARY:Übung Jungfeuerwehrmänner Wohnheim Lebenshilfe
DESCRIPTION:LM Sabitzer\nOFM Klöcker
URL:https://www.feuerwehr-wolfsberg.at/veranstaltung/uebung-jungfeuerwehrmaenner-wohnheim-lebenshilfe/
CATEGORIES:Übungen
END:VEVENT
BEGIN:VEVENT
DTSTART;TZID=Europe/Berlin:20260914T190000
DTEND;TZID=Europe/Berlin:20260914T210000
DTSTAMP:20260423T235916
CREATED:20251209T152003Z
LAST-MODIFIED:20251209T152003Z
UID:22871-1789412400-1789419600@www.feuerwehr-wolfsberg.at
SUMMARY:Übung GRKDT Brand Altenwohnheim Koschatstraße / MV
DESCRIPTION:BM Fritzl\nHFM Wiltsche
URL:https://www.feuerwehr-wolfsberg.at/veranstaltung/uebung-grkdt-brand-altenwohnheim-koschatstrasse-mv/
CATEGORIES:Übungen
END:VEVENT
BEGIN:VEVENT
DTSTART;TZID=Europe/Berlin:20260924T190000
DTEND;TZID=Europe/Berlin:20260924T210000
DTSTAMP:20260423T235916
CREATED:20251209T152107Z
LAST-MODIFIED:20251209T152107Z
UID:22873-1790276400-1790283600@www.feuerwehr-wolfsberg.at
SUMMARY:Übung Chargen Baulicher Brandschutz\, Brandschutzpläne
DESCRIPTION:HBM Stangl
URL:https://www.feuerwehr-wolfsberg.at/veranstaltung/uebung-chargen-baulicher-brandschutz-brandschutzplaene/
CATEGORIES:Übungen
END:VEVENT
BEGIN:VEVENT
DTSTART;TZID=Europe/Berlin:20260928T190000
DTEND;TZID=Europe/Berlin:20260928T210000
DTSTAMP:20260423T235916
CREATED:20251209T152159Z
LAST-MODIFIED:20251209T152159Z
UID:22875-1790622000-1790629200@www.feuerwehr-wolfsberg.at
SUMMARY:Übung ZGKDT Brand Altenwohnheim St.Michaelerstraße
DESCRIPTION:BM Fontano
URL:https://www.feuerwehr-wolfsberg.at/veranstaltung/uebung-zgkdt-brand-altenwohnheim-st-michaelerstrasse/
CATEGORIES:Übungen
END:VEVENT
BEGIN:VEVENT
DTSTART;TZID=Europe/Berlin:20261001T190000
DTEND;TZID=Europe/Berlin:20261001T210000
DTSTAMP:20260423T235916
CREATED:20251209T152304Z
LAST-MODIFIED:20251209T152304Z
UID:22877-1790881200-1790888400@www.feuerwehr-wolfsberg.at
SUMMARY:Übung Abschnitt St.Stefan
DESCRIPTION:BM Zarfl\nOFM Tripolt
URL:https://www.feuerwehr-wolfsberg.at/veranstaltung/uebung-abschnitt-st-stefan/
CATEGORIES:Übungen
END:VEVENT
BEGIN:VEVENT
DTSTART;TZID=Europe/Berlin:20261008T190000
DTEND;TZID=Europe/Berlin:20261008T210000
DTSTAMP:20260423T235916
CREATED:20251209T152404Z
LAST-MODIFIED:20251209T152404Z
UID:22879-1791486000-1791493200@www.feuerwehr-wolfsberg.at
SUMMARY:Übung Abschnitt ATS St.Johann
DESCRIPTION:HLM Megymorecz\nHFM Kainz
URL:https://www.feuerwehr-wolfsberg.at/veranstaltung/uebung-abschnitt-ats-st-johann/
CATEGORIES:Übungen
END:VEVENT
BEGIN:VEVENT
DTSTART;TZID=Europe/Berlin:20261009T180000
DTEND;TZID=Europe/Berlin:20261009T200000
DTSTAMP:20260423T235916
CREATED:20251209T152458Z
LAST-MODIFIED:20251209T152458Z
UID:22881-1791568800-1791576000@www.feuerwehr-wolfsberg.at
SUMMARY:Kriegerdenkmal
DESCRIPTION:OBI Kainz-Pauscha
URL:https://www.feuerwehr-wolfsberg.at/veranstaltung/kriegerdenkmal-2/
CATEGORIES:Veranstaltungen
END:VEVENT
BEGIN:VEVENT
DTSTART;TZID=Europe/Berlin:20261012T190000
DTEND;TZID=Europe/Berlin:20261012T210000
DTSTAMP:20260423T235916
CREATED:20251209T152552Z
LAST-MODIFIED:20251209T152552Z
UID:22883-1791831600-1791838800@www.feuerwehr-wolfsberg.at
SUMMARY:Übung GRKDT Technisch Rotes Kreuz
DESCRIPTION:BM Kogler\nBM Klammer
URL:https://www.feuerwehr-wolfsberg.at/veranstaltung/uebung-grkdt-technisch-rotes-kreuz/
CATEGORIES:Übungen
END:VEVENT
BEGIN:VEVENT
DTSTART;TZID=Europe/Berlin:20261015T190000
DTEND;TZID=Europe/Berlin:20261015T210000
DTSTAMP:20260423T235916
CREATED:20251209T152706Z
LAST-MODIFIED:20251209T152706Z
UID:22885-1792090800-1792098000@www.feuerwehr-wolfsberg.at
SUMMARY:Übung Jungfeuerwehrmänner
DESCRIPTION:BM Fritzl\nHFM Wiltsche
URL:https://www.feuerwehr-wolfsberg.at/veranstaltung/uebung-jungfeuerwehrmaenner-8/
CATEGORIES:Übungen
END:VEVENT
BEGIN:VEVENT
DTSTART;TZID=Europe/Berlin:20261017T190000
DTEND;TZID=Europe/Berlin:20261017T220000
DTSTAMP:20260423T235916
CREATED:20251209T152753Z
LAST-MODIFIED:20251209T152753Z
UID:22887-1792263600-1792274400@www.feuerwehr-wolfsberg.at
SUMMARY:Feuerwehrball Kamp
DESCRIPTION:BM Fontano
URL:https://www.feuerwehr-wolfsberg.at/veranstaltung/feuerwehrball-kamp-2/
CATEGORIES:Veranstaltungen
END:VEVENT
BEGIN:VEVENT
DTSTART;TZID=Europe/Berlin:20261019T190000
DTEND;TZID=Europe/Berlin:20261019T210000
DTSTAMP:20260423T235916
CREATED:20251209T152843Z
LAST-MODIFIED:20251209T152843Z
UID:22889-1792436400-1792443600@www.feuerwehr-wolfsberg.at
SUMMARY:Übung GRKDT Verkehrsunfall
DESCRIPTION:HLM Megymorecz\nHFM Kainz
URL:https://www.feuerwehr-wolfsberg.at/veranstaltung/uebung-grkdt-verkehrsunfall-4/
CATEGORIES:Übungen
END:VEVENT
BEGIN:VEVENT
DTSTART;TZID=Europe/Berlin:20261029T190000
DTEND;TZID=Europe/Berlin:20261029T210000
DTSTAMP:20260423T235916
CREATED:20251209T153028Z
LAST-MODIFIED:20251209T153028Z
UID:22893-1793300400-1793307600@www.feuerwehr-wolfsberg.at
SUMMARY:Übung ATS Hermes Pharma Werk alt
DESCRIPTION:OBM Schütz\nHFM Wiltsche
URL:https://www.feuerwehr-wolfsberg.at/veranstaltung/uebung-ats-hermes-pharma-werk-alt/
CATEGORIES:Übungen
END:VEVENT
BEGIN:VEVENT
DTSTART;TZID=Europe/Berlin:20261101T090000
DTEND;TZID=Europe/Berlin:20261101T110000
DTSTAMP:20260423T235916
CREATED:20251209T153155Z
LAST-MODIFIED:20251209T153155Z
UID:22895-1793523600-1793530800@www.feuerwehr-wolfsberg.at
SUMMARY:Kriegerdenkmal Allerheiligen
DESCRIPTION:ABI Gerak
URL:https://www.feuerwehr-wolfsberg.at/veranstaltung/kriegerdenkmal-allerheiligen-2/
CATEGORIES:Veranstaltungen
END:VEVENT
BEGIN:VEVENT
DTSTART;TZID=Europe/Berlin:20261102T190000
DTEND;TZID=Europe/Berlin:20261102T210000
DTSTAMP:20260423T235916
CREATED:20251209T153247Z
LAST-MODIFIED:20251209T153247Z
UID:22897-1793646000-1793653200@www.feuerwehr-wolfsberg.at
SUMMARY:Übung ZGKDT Verkehrsunfall / MV
DESCRIPTION:HBM Stangl
URL:https://www.feuerwehr-wolfsberg.at/veranstaltung/uebung-zgkdt-verkehrsunfall-mv-2/
CATEGORIES:Übungen
END:VEVENT
BEGIN:VEVENT
DTSTART;TZID=Europe/Berlin:20261107T190000
DTEND;TZID=Europe/Berlin:20261107T220000
DTSTAMP:20260423T235916
CREATED:20251209T153334Z
LAST-MODIFIED:20251209T153334Z
UID:22899-1794078000-1794088800@www.feuerwehr-wolfsberg.at
SUMMARY:Feuerwehrball Prebl
DESCRIPTION:OBM Schütz
URL:https://www.feuerwehr-wolfsberg.at/veranstaltung/feuerwehrball-prebl-2/
CATEGORIES:Veranstaltungen
END:VEVENT
BEGIN:VEVENT
DTSTART;TZID=Europe/Berlin:20261112T190000
DTEND;TZID=Europe/Berlin:20261112T210000
DTSTAMP:20260423T235916
CREATED:20251209T153459Z
LAST-MODIFIED:20251209T153459Z
UID:22901-1794510000-1794517200@www.feuerwehr-wolfsberg.at
SUMMARY:Übung Jungfeuerwehrmänner
DESCRIPTION:BM Kogler\nBM Klammer
URL:https://www.feuerwehr-wolfsberg.at/veranstaltung/uebung-jungfeuerwehrmaenner-9/
CATEGORIES:Übungen
END:VEVENT
BEGIN:VEVENT
DTSTART;TZID=Europe/Berlin:20261116T190000
DTEND;TZID=Europe/Berlin:20261116T210000
DTSTAMP:20260423T235916
CREATED:20251209T153606Z
LAST-MODIFIED:20251209T153606Z
UID:22903-1794855600-1794862800@www.feuerwehr-wolfsberg.at
SUMMARY:Übung GRKDT Gefährliche Stoffe
DESCRIPTION:BM Zarfl\nOFM Tripolt
URL:https://www.feuerwehr-wolfsberg.at/veranstaltung/uebung-grkdt-gefaehrliche-stoffe-2/
CATEGORIES:Übungen
END:VEVENT
BEGIN:VEVENT
DTSTART;TZID=Europe/Berlin:20261126T190000
DTEND;TZID=Europe/Berlin:20261126T210000
DTSTAMP:20260423T235916
CREATED:20251209T153710Z
LAST-MODIFIED:20251209T153710Z
UID:22905-1795719600-1795726800@www.feuerwehr-wolfsberg.at
SUMMARY:Übung Maschinisten
DESCRIPTION:LM Wastian\nLM Sabitzer\nBM Klammer
URL:https://www.feuerwehr-wolfsberg.at/veranstaltung/uebung-maschinisten-3/
CATEGORIES:Übungen
END:VEVENT
BEGIN:VEVENT
DTSTART;TZID=Europe/Berlin:20261130T190000
DTEND;TZID=Europe/Berlin:20261130T210000
DTSTAMP:20260423T235916
CREATED:20251209T153825Z
LAST-MODIFIED:20251209T153825Z
UID:22907-1796065200-1796072400@www.feuerwehr-wolfsberg.at
SUMMARY:Übung ZGKDT Gefährliche Stoffe MONDI Frantschach- St.Gertraud
DESCRIPTION:OBM Schütz
URL:https://www.feuerwehr-wolfsberg.at/veranstaltung/uebung-zgkdt-gefaehrliche-stoffe-mondi-frantschach-st-gertraud/
CATEGORIES:Übungen
END:VEVENT
BEGIN:VEVENT
DTSTART;TZID=Europe/Berlin:20261210T190000
DTEND;TZID=Europe/Berlin:20261210T210000
DTSTAMP:20260423T235916
CREATED:20251209T153956Z
LAST-MODIFIED:20251209T153956Z
UID:22911-1796929200-1796936400@www.feuerwehr-wolfsberg.at
SUMMARY:Übung Chargen Retten aus Höhen und Tiefen
DESCRIPTION:HBM Stangl
URL:https://www.feuerwehr-wolfsberg.at/veranstaltung/uebung-chargen-retten-aus-hoehen-und-tiefen/
CATEGORIES:Übungen
END:VEVENT
BEGIN:VEVENT
DTSTART;TZID=Europe/Berlin:20261214T190000
DTEND;TZID=Europe/Berlin:20261214T210000
DTSTAMP:20260423T235916
CREATED:20251209T154056Z
LAST-MODIFIED:20251209T154056Z
UID:22913-1797274800-1797282000@www.feuerwehr-wolfsberg.at
SUMMARY:Übung GRKDT Stationsbetrieb
DESCRIPTION:Alle GRKDT
URL:https://www.feuerwehr-wolfsberg.at/veranstaltung/uebung-grkdt-stationsbetrieb-2/
CATEGORIES:Übungen
END:VEVENT
BEGIN:VEVENT
DTSTART;TZID=Europe/Berlin:20261223T180000
DTEND;TZID=Europe/Berlin:20261223T210000
DTSTAMP:20260423T235916
CREATED:20251209T154144Z
LAST-MODIFIED:20251209T154144Z
UID:22915-1798048800-1798059600@www.feuerwehr-wolfsberg.at
SUMMARY:Friedenslichtaktion
DESCRIPTION:ABI Gerak
URL:https://www.feuerwehr-wolfsberg.at/veranstaltung/friedenslichtaktion-2/
CATEGORIES:Veranstaltungen
END:VEVENT
END:VCALENDAR