BEGIN:VCALENDAR
VERSION:2.0
PRODID:-//www.feuerwehr-wolfsberg.at - ECPv6.15.17.1//NONSGML v1.0//EN
CALSCALE:GREGORIAN
METHOD:PUBLISH
X-ORIGINAL-URL:https://www.feuerwehr-wolfsberg.at
X-WR-CALDESC:Veranstaltungen für www.feuerwehr-wolfsberg.at
REFRESH-INTERVAL;VALUE=DURATION:PT1H
X-Robots-Tag:noindex
X-PUBLISHED-TTL:PT1H
BEGIN:VTIMEZONE
TZID:Europe/Berlin
BEGIN:DAYLIGHT
TZOFFSETFROM:+0100
TZOFFSETTO:+0200
TZNAME:CEST
DTSTART:20240331T010000
END:DAYLIGHT
BEGIN:STANDARD
TZOFFSETFROM:+0200
TZOFFSETTO:+0100
TZNAME:CET
DTSTART:20241027T010000
END:STANDARD
BEGIN:DAYLIGHT
TZOFFSETFROM:+0100
TZOFFSETTO:+0200
TZNAME:CEST
DTSTART:20250330T010000
END:DAYLIGHT
BEGIN:STANDARD
TZOFFSETFROM:+0200
TZOFFSETTO:+0100
TZNAME:CET
DTSTART:20251026T010000
END:STANDARD
BEGIN:DAYLIGHT
TZOFFSETFROM:+0100
TZOFFSETTO:+0200
TZNAME:CEST
DTSTART:20260329T010000
END:DAYLIGHT
BEGIN:STANDARD
TZOFFSETFROM:+0200
TZOFFSETTO:+0100
TZNAME:CET
DTSTART:20261025T010000
END:STANDARD
BEGIN:DAYLIGHT
TZOFFSETFROM:+0100
TZOFFSETTO:+0200
TZNAME:CEST
DTSTART:20270328T010000
END:DAYLIGHT
BEGIN:STANDARD
TZOFFSETFROM:+0200
TZOFFSETTO:+0100
TZNAME:CET
DTSTART:20271031T010000
END:STANDARD
END:VTIMEZONE
BEGIN:VEVENT
DTSTART;TZID=Europe/Berlin:20260423T190000
DTEND;TZID=Europe/Berlin:20260423T210000
DTSTAMP:20260424T014543
CREATED:20251209T145514Z
LAST-MODIFIED:20251209T145514Z
UID:22824-1776970800-1776978000@www.feuerwehr-wolfsberg.at
SUMMARY:Übung Chargen Rauchabzugseinrichtungen\, RWA-Anlagen
DESCRIPTION:HBM Stangl
URL:https://www.feuerwehr-wolfsberg.at/veranstaltung/uebung-chargen-rauchabzugseinrichtungen-rwa-anlagen/
CATEGORIES:Übungen
END:VEVENT
BEGIN:VEVENT
DTSTART;TZID=Europe/Berlin:20260413T190000
DTEND;TZID=Europe/Berlin:20260413T210000
DTSTAMP:20260424T014543
CREATED:20251209T145358Z
LAST-MODIFIED:20251209T145358Z
UID:22822-1776106800-1776114000@www.feuerwehr-wolfsberg.at
SUMMARY:Übung ZGKDT Technisch Hermes Pharma
DESCRIPTION:BM Fontano
URL:https://www.feuerwehr-wolfsberg.at/veranstaltung/uebung-zgkdt-technisch-hermes-pharma/
CATEGORIES:Übungen
END:VEVENT
BEGIN:VEVENT
DTSTART;TZID=Europe/Berlin:20260409T190000
DTEND;TZID=Europe/Berlin:20260409T210000
DTSTAMP:20260424T014543
CREATED:20251209T145257Z
LAST-MODIFIED:20251209T145257Z
UID:22820-1775761200-1775768400@www.feuerwehr-wolfsberg.at
SUMMARY:Übung Abschnitt Frantschach - St.Gertraud
DESCRIPTION:BM Fritzl\nHFM Wiltsche
URL:https://www.feuerwehr-wolfsberg.at/veranstaltung/uebung-abschnitt-frantschach-st-gertraud/
CATEGORIES:Übungen
END:VEVENT
BEGIN:VEVENT
DTSTART;TZID=Europe/Berlin:20260401T170000
DTEND;TZID=Europe/Berlin:20260401T233000
DTSTAMP:20260424T014543
CREATED:20260401T131315Z
LAST-MODIFIED:20260401T131315Z
UID:23215-1775062800-1775086200@www.feuerwehr-wolfsberg.at
SUMMARY:Gemeinsamer Kartenvorverkauf
DESCRIPTION:Kameradschaftsführung
URL:https://www.feuerwehr-wolfsberg.at/veranstaltung/gemeinsamer-kartenvorverkauf-3/
END:VEVENT
BEGIN:VEVENT
DTSTART;TZID=Europe/Berlin:20260330T190000
DTEND;TZID=Europe/Berlin:20260330T210000
DTSTAMP:20260424T014543
CREATED:20251209T145140Z
LAST-MODIFIED:20251209T145140Z
UID:22818-1774897200-1774904400@www.feuerwehr-wolfsberg.at
SUMMARY:Übung GRKDT Technisch
DESCRIPTION:BM Kogler\nBM Klammer
URL:https://www.feuerwehr-wolfsberg.at/veranstaltung/uebung-grkdt-technisch/
CATEGORIES:Übungen
END:VEVENT
BEGIN:VEVENT
DTSTART;TZID=Europe/Berlin:20260327T180000
DTEND;TZID=Europe/Berlin:20260327T210000
DTSTAMP:20260424T014543
CREATED:20251209T145049Z
LAST-MODIFIED:20251209T145049Z
UID:22816-1774634400-1774645200@www.feuerwehr-wolfsberg.at
SUMMARY:Osterpreisschnapsen
DESCRIPTION:Kameradschaftsführung
URL:https://www.feuerwehr-wolfsberg.at/veranstaltung/osterpreisschnapsen/
CATEGORIES:Veranstaltungen
END:VEVENT
BEGIN:VEVENT
DTSTART;TZID=Europe/Berlin:20260326T190000
DTEND;TZID=Europe/Berlin:20260326T210000
DTSTAMP:20260424T014543
CREATED:20251209T144950Z
LAST-MODIFIED:20251209T144950Z
UID:22814-1774551600-1774558800@www.feuerwehr-wolfsberg.at
SUMMARY:ÖFAST ATS Träger
DESCRIPTION:OBM Schütz\nHFM Wiltsche
URL:https://www.feuerwehr-wolfsberg.at/veranstaltung/oefast-ats-traeger-4/
CATEGORIES:Übungen
END:VEVENT
BEGIN:VEVENT
DTSTART;TZID=Europe/Berlin:20260323T190000
DTEND;TZID=Europe/Berlin:20260323T210000
DTSTAMP:20260424T014543
CREATED:20251209T144900Z
LAST-MODIFIED:20251209T144900Z
UID:22812-1774292400-1774299600@www.feuerwehr-wolfsberg.at
SUMMARY:Übung GRKDT Technisch FA. Kohlbach
DESCRIPTION:BM Fritzl\nHFM Wiltsche
URL:https://www.feuerwehr-wolfsberg.at/veranstaltung/uebung-grkdt-technisch-fa-kohlbach/
CATEGORIES:Übungen
END:VEVENT
BEGIN:VEVENT
DTSTART;TZID=Europe/Berlin:20260319T190000
DTEND;TZID=Europe/Berlin:20260319T210000
DTSTAMP:20260424T014543
CREATED:20251209T144742Z
LAST-MODIFIED:20251209T144742Z
UID:22810-1773946800-1773954000@www.feuerwehr-wolfsberg.at
SUMMARY:Übung Maschinisten
DESCRIPTION:LM Wastian\nBM Klammer\nLM Sabitzer
URL:https://www.feuerwehr-wolfsberg.at/veranstaltung/uebung-maschinisten-2/
CATEGORIES:Übungen
END:VEVENT
BEGIN:VEVENT
DTSTART;TZID=Europe/Berlin:20260316T180000
DTEND;TZID=Europe/Berlin:20260316T210000
DTSTAMP:20260424T014543
CREATED:20251209T144641Z
LAST-MODIFIED:20251209T144641Z
UID:22808-1773684000-1773694800@www.feuerwehr-wolfsberg.at
SUMMARY:ÖFAST ATS Träger
DESCRIPTION:OBM Schütz\nHFM Wiltsche
URL:https://www.feuerwehr-wolfsberg.at/veranstaltung/oefast-ats-traeger-3/
CATEGORIES:Übungen
END:VEVENT
BEGIN:VEVENT
DTSTART;TZID=Europe/Berlin:20260312T180000
DTEND;TZID=Europe/Berlin:20260312T210000
DTSTAMP:20260424T014543
CREATED:20251209T144556Z
LAST-MODIFIED:20251209T144556Z
UID:22806-1773338400-1773349200@www.feuerwehr-wolfsberg.at
SUMMARY:ÖFAST ATS Träger
DESCRIPTION:OBM Schütz\nHFM Wiltsche
URL:https://www.feuerwehr-wolfsberg.at/veranstaltung/oefast-ats-traeger-2/
CATEGORIES:Übungen
END:VEVENT
BEGIN:VEVENT
DTSTART;TZID=Europe/Berlin:20260309T190000
DTEND;TZID=Europe/Berlin:20260309T210000
DTSTAMP:20260424T014543
CREATED:20251209T144428Z
LAST-MODIFIED:20251209T144428Z
UID:22804-1773082800-1773090000@www.feuerwehr-wolfsberg.at
SUMMARY:Übung ZKDT Wolfsberger Heimwerkercenter Grazer Straße/ MV
DESCRIPTION:HBM Stangl
URL:https://www.feuerwehr-wolfsberg.at/veranstaltung/uebung-zkdt-wolfsberger-heimwerkercenter-grazer-strasse-mv/
CATEGORIES:Übungen
END:VEVENT
BEGIN:VEVENT
DTSTART;TZID=Europe/Berlin:20260305T190000
DTEND;TZID=Europe/Berlin:20260305T210000
DTSTAMP:20260424T014543
CREATED:20251209T144225Z
LAST-MODIFIED:20251209T144225Z
UID:22802-1772737200-1772744400@www.feuerwehr-wolfsberg.at
SUMMARY:Übung Abschnitt BAWZ
DESCRIPTION:HLM Megymorecz\nHFM Kainz
URL:https://www.feuerwehr-wolfsberg.at/veranstaltung/uebung-abschnitt-bawz/
CATEGORIES:Übungen
END:VEVENT
BEGIN:VEVENT
DTSTART;TZID=Europe/Berlin:20260302T180000
DTEND;TZID=Europe/Berlin:20260302T210000
DTSTAMP:20260424T014543
CREATED:20251209T144044Z
LAST-MODIFIED:20251209T144044Z
UID:22800-1772474400-1772485200@www.feuerwehr-wolfsberg.at
SUMMARY:ÖFAST ATS Träger
DESCRIPTION:OBM Schütz\nHFM Wiltsche
URL:https://www.feuerwehr-wolfsberg.at/veranstaltung/oefast-ats-traeger/
CATEGORIES:Übungen
END:VEVENT
BEGIN:VEVENT
DTSTART;TZID=Europe/Berlin:20260223T190000
DTEND;TZID=Europe/Berlin:20260223T210000
DTSTAMP:20260424T014543
CREATED:20251209T143702Z
LAST-MODIFIED:20251209T143702Z
UID:22798-1771873200-1771880400@www.feuerwehr-wolfsberg.at
SUMMARY:Übung GRKDT Verkehrsunfall
DESCRIPTION:OLM Eberhard\nBI Schauer
URL:https://www.feuerwehr-wolfsberg.at/veranstaltung/uebung-grkdt-verkehrsunfall-3/
CATEGORIES:Übungen
END:VEVENT
BEGIN:VEVENT
DTSTART;TZID=Europe/Berlin:20260219T190000
DTEND;TZID=Europe/Berlin:20260219T210000
DTSTAMP:20260424T014543
CREATED:20251209T143555Z
LAST-MODIFIED:20251217T142138Z
UID:22796-1771527600-1771534800@www.feuerwehr-wolfsberg.at
SUMMARY:Übung Atemschutz  LKH Wolfsberg
DESCRIPTION:OBM Schütz\nHFM Wiltsche
URL:https://www.feuerwehr-wolfsberg.at/veranstaltung/uebung-atemschutz-lkh-wolfsberg/
CATEGORIES:Übungen
END:VEVENT
BEGIN:VEVENT
DTSTART;TZID=Europe/Berlin:20260213T180000
DTEND;TZID=Europe/Berlin:20260213T220000
DTSTAMP:20260424T014543
CREATED:20251209T143453Z
LAST-MODIFIED:20260104T070904Z
UID:22794-1771005600-1771020000@www.feuerwehr-wolfsberg.at
SUMMARY:Jahreshauptversammlung / Portraitfotos
DESCRIPTION:ABI Gerak\nKameradschaftsführung
URL:https://www.feuerwehr-wolfsberg.at/veranstaltung/jahreshauptversammlung-wahl-kameradschaftsfuehrung-portraitfotos/
CATEGORIES:Veranstaltungen
END:VEVENT
BEGIN:VEVENT
DTSTART;TZID=Europe/Berlin:20260209T190000
DTEND;TZID=Europe/Berlin:20260209T210000
DTSTAMP:20260424T014543
CREATED:20251209T143234Z
LAST-MODIFIED:20251209T143234Z
UID:22792-1770663600-1770670800@www.feuerwehr-wolfsberg.at
SUMMARY:Übung GRKDT Verkehrsunfall
DESCRIPTION:LM Sabitzer\nOFM Klöcker
URL:https://www.feuerwehr-wolfsberg.at/veranstaltung/uebung-grkdt-verkehrsunfall-2/
CATEGORIES:Übungen
END:VEVENT
BEGIN:VEVENT
DTSTART;TZID=Europe/Berlin:20260202T190000
DTEND;TZID=Europe/Berlin:20260202T210000
DTSTAMP:20260424T014543
CREATED:20251209T143131Z
LAST-MODIFIED:20251209T143131Z
UID:22790-1770058800-1770066000@www.feuerwehr-wolfsberg.at
SUMMARY:Übung Jungfeuerwehrmänner
DESCRIPTION:BM Zarfl\nOFM Tripolt
URL:https://www.feuerwehr-wolfsberg.at/veranstaltung/uebung-jungfeuerwehrmaenner-5/
CATEGORIES:Übungen
END:VEVENT
BEGIN:VEVENT
DTSTART;TZID=Europe/Berlin:20260129T190000
DTEND;TZID=Europe/Berlin:20260129T210000
DTSTAMP:20260424T014543
CREATED:20251209T142958Z
LAST-MODIFIED:20251209T142958Z
UID:22788-1769713200-1769720400@www.feuerwehr-wolfsberg.at
SUMMARY:Übung Chargen Planspiel Einsatzszenarien
DESCRIPTION:HBM Stangl
URL:https://www.feuerwehr-wolfsberg.at/veranstaltung/uebung-chargen-planspiel-einsatzszenarien/
CATEGORIES:Übungen
END:VEVENT
BEGIN:VEVENT
DTSTART;TZID=Europe/Berlin:20260126T190000
DTEND;TZID=Europe/Berlin:20260126T210000
DTSTAMP:20260424T014543
CREATED:20251209T142832Z
LAST-MODIFIED:20251209T142832Z
UID:22786-1769454000-1769461200@www.feuerwehr-wolfsberg.at
SUMMARY:Übung GRKDT Ernst Swatek Gedenkübung
DESCRIPTION:HLM Megymorecz\nHFM Kainz
URL:https://www.feuerwehr-wolfsberg.at/veranstaltung/uebung-grkdt-ernst-swatek-gedenkuebung/
CATEGORIES:Übungen
END:VEVENT
BEGIN:VEVENT
DTSTART;TZID=Europe/Berlin:20260122T173000
DTEND;TZID=Europe/Berlin:20260122T210000
DTSTAMP:20260424T014543
CREATED:20251209T142717Z
LAST-MODIFIED:20260111T115037Z
UID:22784-1769103000-1769115600@www.feuerwehr-wolfsberg.at
SUMMARY:Übung Tunnel Stationsbetrieb nur ATS
DESCRIPTION:BM Zarfl\nOFM Tripolt
URL:https://www.feuerwehr-wolfsberg.at/veranstaltung/uebung-tunnel-stationsbetrieb/
CATEGORIES:Übungen
END:VEVENT
BEGIN:VEVENT
DTSTART;TZID=Europe/Berlin:20260112T190000
DTEND;TZID=Europe/Berlin:20260112T210000
DTSTAMP:20260424T014543
CREATED:20251209T142556Z
LAST-MODIFIED:20260106T183255Z
UID:22782-1768244400-1768251600@www.feuerwehr-wolfsberg.at
SUMMARY:Frühjahrsrapport
DESCRIPTION:HFM Wiltsche
URL:https://www.feuerwehr-wolfsberg.at/veranstaltung/uebung-grkdt-stationsbetrieb-fruehjahrsrapport-mv/
CATEGORIES:Übungen
END:VEVENT
BEGIN:VEVENT
DTSTART;TZID=Europe/Berlin:20260112T180000
DTEND;TZID=Europe/Berlin:20260112T190000
DTSTAMP:20260424T014543
CREATED:20251225T124440Z
LAST-MODIFIED:20251225T124505Z
UID:22962-1768240800-1768244400@www.feuerwehr-wolfsberg.at
SUMMARY:Kameradschaftsführerwahl 2026
DESCRIPTION:Kameradschaftsführung
URL:https://www.feuerwehr-wolfsberg.at/veranstaltung/kameradschaftsfuehrerwahl-2026/
CATEGORIES:Veranstaltungen
END:VEVENT
BEGIN:VEVENT
DTSTART;TZID=Europe/Berlin:20251223T180000
DTEND;TZID=Europe/Berlin:20251223T210000
DTSTAMP:20260424T014543
CREATED:20251204T110939Z
LAST-MODIFIED:20251204T110939Z
UID:22777-1766512800-1766523600@www.feuerwehr-wolfsberg.at
SUMMARY:Friedenslichtaktion der Feuerwehrjugend Wolfsberg 2025
DESCRIPTION:Die Feuerwehrjugend der Freiwilligen Feuerwehr Wolfsberg lädt Euch recht herzlich zur diesjährigen Friedenlichtaktion ein. Beginn ist um 18 Uhr mit einer kleinen Andacht im Rüsthaus Wolfsberg. Der Reinerlös ergeht an hilfsbedürftige Menschen im Lavanttal.  Auf Euer kommen freut sich die Feuerwehrjugend .
URL:https://www.feuerwehr-wolfsberg.at/veranstaltung/friedenslichtaktion-der-feuerwehrjugend-wolfsberg-2025/
CATEGORIES:Jugend,Veranstaltungen
ATTACH;FMTTYPE=image/jpeg:https://www.feuerwehr-wolfsberg.at/wp-content/uploads/2025/12/2025_Einladung-Friedenslicht_kurz-e1764846788314.jpg
END:VEVENT
BEGIN:VEVENT
DTSTART;TZID=Europe/Berlin:20251215T190000
DTEND;TZID=Europe/Berlin:20251215T200000
DTSTAMP:20260424T014543
CREATED:20250410T082025Z
LAST-MODIFIED:20250410T082025Z
UID:21709-1765825200-1765828800@www.feuerwehr-wolfsberg.at
SUMMARY:Übung GRKDT Stationsbetrieb
DESCRIPTION:Alle GRKDT
URL:https://www.feuerwehr-wolfsberg.at/veranstaltung/uebung-grkdt-stationsbetrieb/
CATEGORIES:Übungen
END:VEVENT
BEGIN:VEVENT
DTSTART;TZID=Europe/Berlin:20251213T120000
DTEND;TZID=Europe/Berlin:20251213T235900
DTSTAMP:20260424T014543
CREATED:20250410T081947Z
LAST-MODIFIED:20251020T174202Z
UID:21707-1765627200-1765670340@www.feuerwehr-wolfsberg.at
SUMMARY:Weihnachtsausflug Villach
DESCRIPTION:Kameradschaftsführung
URL:https://www.feuerwehr-wolfsberg.at/veranstaltung/weihnachtsausflug/
CATEGORIES:Veranstaltungen
END:VEVENT
BEGIN:VEVENT
DTSTART;TZID=Europe/Berlin:20251211T190000
DTEND;TZID=Europe/Berlin:20251211T200000
DTSTAMP:20260424T014543
CREATED:20250410T081848Z
LAST-MODIFIED:20250410T081848Z
UID:21705-1765479600-1765483200@www.feuerwehr-wolfsberg.at
SUMMARY:Übung Chargen E-Mobilität
DESCRIPTION:HBM Stangl
URL:https://www.feuerwehr-wolfsberg.at/veranstaltung/uebung-chargen-e-mobilitaet/
CATEGORIES:Übungen
END:VEVENT
BEGIN:VEVENT
DTSTART;TZID=Europe/Berlin:20251206T190000
DTEND;TZID=Europe/Berlin:20251207T043000
DTSTAMP:20260424T014543
CREATED:20250918T132415Z
LAST-MODIFIED:20250918T132415Z
UID:22512-1765047600-1765081800@www.feuerwehr-wolfsberg.at
SUMMARY:Weihnachtsfeier
DESCRIPTION:Kameradschaft & Kommando
URL:https://www.feuerwehr-wolfsberg.at/veranstaltung/weihnachtsfeier-2/
CATEGORIES:Veranstaltungen
END:VEVENT
BEGIN:VEVENT
DTSTART;TZID=Europe/Berlin:20251201T190000
DTEND;TZID=Europe/Berlin:20251201T200000
DTSTAMP:20260424T014543
CREATED:20250410T081736Z
LAST-MODIFIED:20250410T081736Z
UID:21701-1764615600-1764619200@www.feuerwehr-wolfsberg.at
SUMMARY:Übung GRKDT Verkehrsunfall LEEB St. Thomaserstraße
DESCRIPTION:HLM Megymorecz\nHFM Kainz
URL:https://www.feuerwehr-wolfsberg.at/veranstaltung/uebung-grkdt-verkehrsunfall-leeb-st-thomaserstrasse/
CATEGORIES:Übungen
END:VEVENT
BEGIN:VEVENT
DTSTART;TZID=Europe/Berlin:20251127T190000
DTEND;TZID=Europe/Berlin:20251127T200000
DTSTAMP:20260424T014543
CREATED:20250410T081655Z
LAST-MODIFIED:20250410T081655Z
UID:21699-1764270000-1764273600@www.feuerwehr-wolfsberg.at
SUMMARY:Übung Maschinisten
DESCRIPTION:LM Wastian
URL:https://www.feuerwehr-wolfsberg.at/veranstaltung/uebung-maschinisten/
CATEGORIES:Übungen
END:VEVENT
BEGIN:VEVENT
DTSTART;TZID=Europe/Berlin:20251117T190000
DTEND;TZID=Europe/Berlin:20251117T200000
DTSTAMP:20260424T014543
CREATED:20250410T081612Z
LAST-MODIFIED:20250410T081612Z
UID:21697-1763406000-1763409600@www.feuerwehr-wolfsberg.at
SUMMARY:Übung ZGKDT Technisch
DESCRIPTION:BM Fontano
URL:https://www.feuerwehr-wolfsberg.at/veranstaltung/uebung-zgkdt-technisch/
CATEGORIES:Übungen
END:VEVENT
BEGIN:VEVENT
DTSTART;TZID=Europe/Berlin:20251110T190000
DTEND;TZID=Europe/Berlin:20251110T200000
DTSTAMP:20260424T014543
CREATED:20250410T081534Z
LAST-MODIFIED:20250410T081534Z
UID:21695-1762801200-1762804800@www.feuerwehr-wolfsberg.at
SUMMARY:Übung Jungfeuerwehrmänner
DESCRIPTION:BM Zarfl\nOFM Tripolt
URL:https://www.feuerwehr-wolfsberg.at/veranstaltung/uebung-jungfeuerwehrmaenner-4/
CATEGORIES:Jugend,Übungen
END:VEVENT
BEGIN:VEVENT
DTSTART;TZID=Europe/Berlin:20251106T190000
DTEND;TZID=Europe/Berlin:20251106T200000
DTSTAMP:20260424T014543
CREATED:20250410T081415Z
LAST-MODIFIED:20250410T081415Z
UID:21691-1762455600-1762459200@www.feuerwehr-wolfsberg.at
SUMMARY:Übung Abschnitt Wolfsberg
DESCRIPTION:OBI Kainz-Pauscha
URL:https://www.feuerwehr-wolfsberg.at/veranstaltung/uebung-abschnitt-wolfsberg/
CATEGORIES:Übungen
END:VEVENT
BEGIN:VEVENT
DTSTART;TZID=Europe/Berlin:20251103T190000
DTEND;TZID=Europe/Berlin:20251103T200000
DTSTAMP:20260424T014543
CREATED:20250410T081336Z
LAST-MODIFIED:20250410T081336Z
UID:21689-1762196400-1762200000@www.feuerwehr-wolfsberg.at
SUMMARY:Übung GRKDT Technisch MV
DESCRIPTION:BM Kogler\nOFM Klammer
URL:https://www.feuerwehr-wolfsberg.at/veranstaltung/uebung-grkdt-technisch-mv/
CATEGORIES:Übungen
END:VEVENT
BEGIN:VEVENT
DTSTART;TZID=Europe/Berlin:20251101T100000
DTEND;TZID=Europe/Berlin:20251101T110000
DTSTAMP:20260424T014543
CREATED:20250410T081252Z
LAST-MODIFIED:20250410T081252Z
UID:21687-1761991200-1761994800@www.feuerwehr-wolfsberg.at
SUMMARY:Kriegerdenkmal Allerheiligen
DESCRIPTION:ABI Gerak
URL:https://www.feuerwehr-wolfsberg.at/veranstaltung/kriegerdenkmal-allerheiligen/
CATEGORIES:Veranstaltungen
END:VEVENT
BEGIN:VEVENT
DTSTART;TZID=Europe/Berlin:20251030T190000
DTEND;TZID=Europe/Berlin:20251030T200000
DTSTAMP:20260424T014543
CREATED:20250410T081205Z
LAST-MODIFIED:20250410T081205Z
UID:21685-1761850800-1761854400@www.feuerwehr-wolfsberg.at
SUMMARY:Übung Atemschutz
DESCRIPTION:OBM Schütz
URL:https://www.feuerwehr-wolfsberg.at/veranstaltung/uebung-atemschutz/
CATEGORIES:Übungen
END:VEVENT
BEGIN:VEVENT
DTSTART;TZID=Europe/Berlin:20251025T190000
DTEND;TZID=Europe/Berlin:20251025T200000
DTSTAMP:20260424T014543
CREATED:20251004T115714Z
LAST-MODIFIED:20251004T115714Z
UID:22544-1761418800-1761422400@www.feuerwehr-wolfsberg.at
SUMMARY:Oktoberfest
DESCRIPTION:Kameradschaftsführung
URL:https://www.feuerwehr-wolfsberg.at/veranstaltung/oktoberfest-2/
CATEGORIES:Veranstaltungen
END:VEVENT
BEGIN:VEVENT
DTSTART;TZID=Europe/Berlin:20251020T190000
DTEND;TZID=Europe/Berlin:20251020T200000
DTSTAMP:20260424T014543
CREATED:20250410T081025Z
LAST-MODIFIED:20250410T081025Z
UID:21681-1760986800-1760990400@www.feuerwehr-wolfsberg.at
SUMMARY:Übung GRKDT Technisch Seniorenwohnheim Neudau
DESCRIPTION:BM Fritzl\nHFM Wiltsche
URL:https://www.feuerwehr-wolfsberg.at/veranstaltung/uebung-grkdt-technisch-seniorenwohnheim-neudau/
CATEGORIES:Übungen
END:VEVENT
BEGIN:VEVENT
DTSTART;TZID=Europe/Berlin:20251013T190000
DTEND;TZID=Europe/Berlin:20251013T200000
DTSTAMP:20260424T014543
CREATED:20250410T080906Z
LAST-MODIFIED:20250410T080906Z
UID:21677-1760382000-1760385600@www.feuerwehr-wolfsberg.at
SUMMARY:Übung Jungfeuerwehrmänner
DESCRIPTION:HLM Megymorecz\nHFM Kainz
URL:https://www.feuerwehr-wolfsberg.at/veranstaltung/uebung-jungfeuerwehrmaenner-3/
CATEGORIES:Jugend,Übungen
END:VEVENT
BEGIN:VEVENT
DTSTART;TZID=Europe/Berlin:20251009T190000
DTEND;TZID=Europe/Berlin:20251009T200000
DTSTAMP:20260424T014543
CREATED:20250410T080819Z
LAST-MODIFIED:20250410T080819Z
UID:21675-1760036400-1760040000@www.feuerwehr-wolfsberg.at
SUMMARY:Kriegerdenkmal
DESCRIPTION:OBI Kainz-Pauscha
URL:https://www.feuerwehr-wolfsberg.at/veranstaltung/kriegerdenkmal/
CATEGORIES:Veranstaltungen
END:VEVENT
BEGIN:VEVENT
DTSTART;TZID=Europe/Berlin:20251006T190000
DTEND;TZID=Europe/Berlin:20251006T200000
DTSTAMP:20260424T014543
CREATED:20250410T080727Z
LAST-MODIFIED:20250410T080727Z
UID:21673-1759777200-1759780800@www.feuerwehr-wolfsberg.at
SUMMARY:Übung ZGKDT Brand Seniorenwohnheim Koschatstraße
DESCRIPTION:HBM Stangl
URL:https://www.feuerwehr-wolfsberg.at/veranstaltung/uebung-zgkdt-brand-seniorenwohnheim-koschatstrasse/
CATEGORIES:Übungen
END:VEVENT
BEGIN:VEVENT
DTSTART;TZID=Europe/Berlin:20251002T190000
DTEND;TZID=Europe/Berlin:20251002T210000
DTSTAMP:20260424T014543
CREATED:20250918T132256Z
LAST-MODIFIED:20250918T132256Z
UID:22510-1759431600-1759438800@www.feuerwehr-wolfsberg.at
SUMMARY:Übung Abschnitt St.Margarethen
DESCRIPTION:BM Zarfl R.\nOFM Tripolt S.
URL:https://www.feuerwehr-wolfsberg.at/veranstaltung/uebung-abschnitt-st-margarethen-2/
CATEGORIES:Übungen
END:VEVENT
BEGIN:VEVENT
DTSTART;TZID=Europe/Berlin:20250925T190000
DTEND;TZID=Europe/Berlin:20250925T200000
DTSTAMP:20260424T014543
CREATED:20250410T075158Z
LAST-MODIFIED:20250410T075158Z
UID:21669-1758826800-1758830400@www.feuerwehr-wolfsberg.at
SUMMARY:Übung Chargen Führungsunterstützung Planspiel/Lageführung
DESCRIPTION:HBM Stangl
URL:https://www.feuerwehr-wolfsberg.at/veranstaltung/uebung-chargen-fuehrungsunterstuetzung-planspiel-lagefuehrung/
CATEGORIES:Übungen
END:VEVENT
BEGIN:VEVENT
DTSTART;TZID=Europe/Berlin:20250922T190000
DTEND;TZID=Europe/Berlin:20250922T200000
DTSTAMP:20260424T014543
CREATED:20250410T075122Z
LAST-MODIFIED:20250410T075122Z
UID:21667-1758567600-1758571200@www.feuerwehr-wolfsberg.at
SUMMARY:Übung GRKDT Brand Bundesschulzentrum
DESCRIPTION:OLM Eberhard\nBI Schauer
URL:https://www.feuerwehr-wolfsberg.at/veranstaltung/uebung-grkdt-brand-bundesschulzentrum/
CATEGORIES:Übungen
END:VEVENT
BEGIN:VEVENT
DTSTART;TZID=Europe/Berlin:20250915T190000
DTEND;TZID=Europe/Berlin:20250915T200000
DTSTAMP:20260424T014543
CREATED:20250410T075044Z
LAST-MODIFIED:20250410T075044Z
UID:21665-1757962800-1757966400@www.feuerwehr-wolfsberg.at
SUMMARY:Übung Jungfeuerwehrmänner
DESCRIPTION:BM Kogler\nOFM Klammer
URL:https://www.feuerwehr-wolfsberg.at/veranstaltung/uebung-jungfeuerwehrmaenner-2/
CATEGORIES:Jugend,Übungen
END:VEVENT
BEGIN:VEVENT
DTSTART;TZID=Europe/Berlin:20250908T190000
DTEND;TZID=Europe/Berlin:20250908T200000
DTSTAMP:20260424T014543
CREATED:20250410T075001Z
LAST-MODIFIED:20250410T075001Z
UID:21663-1757358000-1757361600@www.feuerwehr-wolfsberg.at
SUMMARY:Übung GRKDT Brand Wohnhaus Dr. Arthur-Rainer-Straße 2
DESCRIPTION:LM Sabitzer\nOFM Klöcker
URL:https://www.feuerwehr-wolfsberg.at/veranstaltung/uebung-grkdt-brand-wohnhaus-dr-arthur-rainer-strasse-2/
CATEGORIES:Übungen
END:VEVENT
BEGIN:VEVENT
DTSTART;VALUE=DATE:20250905
DTEND;VALUE=DATE:20250908
DTSTAMP:20260424T014543
CREATED:20250410T074851Z
LAST-MODIFIED:20250410T074851Z
UID:21659-1757030400-1757289599@www.feuerwehr-wolfsberg.at
SUMMARY:Feuerwehrausflug
DESCRIPTION:Kameradschaftsführung
URL:https://www.feuerwehr-wolfsberg.at/veranstaltung/feuerwehrausflug/
CATEGORIES:Veranstaltungen
END:VEVENT
BEGIN:VEVENT
DTSTART;TZID=Europe/Berlin:20250901T190000
DTEND;TZID=Europe/Berlin:20250901T200000
DTSTAMP:20260424T014543
CREATED:20250410T074728Z
LAST-MODIFIED:20250410T074728Z
UID:21657-1756753200-1756756800@www.feuerwehr-wolfsberg.at
SUMMARY:Üung ZGKDT Technisch Lagerhaus MV
DESCRIPTION:BM Fontano
URL:https://www.feuerwehr-wolfsberg.at/veranstaltung/ueung-zgkdt-technisch-lagerhaus-mv/
CATEGORIES:Übungen
END:VEVENT
BEGIN:VEVENT
DTSTART;TZID=Europe/Berlin:20250705T190000
DTEND;TZID=Europe/Berlin:20250705T190000
DTSTAMP:20260424T014543
CREATED:20250410T074255Z
LAST-MODIFIED:20250410T074331Z
UID:21647-1751742000-1751742000@www.feuerwehr-wolfsberg.at
SUMMARY:Feuerwehrfest St.Margarethen
DESCRIPTION:HBM Stangl
URL:https://www.feuerwehr-wolfsberg.at/veranstaltung/feuerwehrfest-st-margarethen/
CATEGORIES:Veranstaltungen
END:VEVENT
BEGIN:VEVENT
DTSTART;TZID=Europe/Berlin:20250629T100000
DTEND;TZID=Europe/Berlin:20250629T100000
DTSTAMP:20260424T014543
CREATED:20250407T110635Z
LAST-MODIFIED:20250407T110709Z
UID:21463-1751191200-1751191200@www.feuerwehr-wolfsberg.at
SUMMARY:Feuerwehrfest Reideben
DESCRIPTION:OBM Schütz
URL:https://www.feuerwehr-wolfsberg.at/veranstaltung/feuerwehrfest-reideben/
CATEGORIES:Veranstaltungen
END:VEVENT
BEGIN:VEVENT
DTSTART;TZID=Europe/Berlin:20250623T190000
DTEND;TZID=Europe/Berlin:20250623T200000
DTSTAMP:20260424T014543
CREATED:20250407T110545Z
LAST-MODIFIED:20250407T110545Z
UID:21461-1750705200-1750708800@www.feuerwehr-wolfsberg.at
SUMMARY:Übung Jungfeuerwehrmänner
DESCRIPTION:BM Fritzl\nHFM Wiltsche
URL:https://www.feuerwehr-wolfsberg.at/veranstaltung/uebung-jungfeuerwehrmaenner/
CATEGORIES:Jugend,Übungen
END:VEVENT
BEGIN:VEVENT
DTSTART;TZID=Europe/Berlin:20250619T100000
DTEND;TZID=Europe/Berlin:20250619T110000
DTSTAMP:20260424T014543
CREATED:20250407T110452Z
LAST-MODIFIED:20250407T110452Z
UID:21459-1750327200-1750330800@www.feuerwehr-wolfsberg.at
SUMMARY:Fronleichnam
DESCRIPTION:ABI Gerak
URL:https://www.feuerwehr-wolfsberg.at/veranstaltung/fronleichnam/
CATEGORIES:Veranstaltungen
END:VEVENT
BEGIN:VEVENT
DTSTART;TZID=Europe/Berlin:20250616T190000
DTEND;TZID=Europe/Berlin:20250616T200000
DTSTAMP:20260424T014543
CREATED:20250407T110400Z
LAST-MODIFIED:20250407T110400Z
UID:21457-1750100400-1750104000@www.feuerwehr-wolfsberg.at
SUMMARY:Übung GRKDT Technisch Porsche Wolfsberg
DESCRIPTION:BM Zarfl\nOFM Tripolt
URL:https://www.feuerwehr-wolfsberg.at/veranstaltung/uebung-grkdt-technisch-porsche-wolfsberg/
CATEGORIES:Übungen
END:VEVENT
BEGIN:VEVENT
DTSTART;TZID=Europe/Berlin:20250615T100000
DTEND;TZID=Europe/Berlin:20250615T110000
DTSTAMP:20260424T014543
CREATED:20250407T110245Z
LAST-MODIFIED:20250407T110245Z
UID:21455-1749981600-1749985200@www.feuerwehr-wolfsberg.at
SUMMARY:Dreifaltigkeitsmesse für Blaulichtorganisationen
DESCRIPTION:Kameradschaftsführung
URL:https://www.feuerwehr-wolfsberg.at/veranstaltung/dreifaltigkeitsmesse-fuer-blaulichtorganisationen/
CATEGORIES:Veranstaltungen
END:VEVENT
BEGIN:VEVENT
DTSTART;TZID=Europe/Berlin:20250614T190000
DTEND;TZID=Europe/Berlin:20250614T190000
DTSTAMP:20260424T014543
CREATED:20250407T110030Z
LAST-MODIFIED:20250407T110122Z
UID:21453-1749927600-1749927600@www.feuerwehr-wolfsberg.at
SUMMARY:Feuerwehrfest Gräbern
DESCRIPTION:BM Fontano
URL:https://www.feuerwehr-wolfsberg.at/veranstaltung/feuerwehrfest-graebern/
CATEGORIES:Veranstaltungen
END:VEVENT
BEGIN:VEVENT
DTSTART;TZID=Europe/Berlin:20250602T190000
DTEND;TZID=Europe/Berlin:20250602T200000
DTSTAMP:20260424T014543
CREATED:20250407T105938Z
LAST-MODIFIED:20250407T105938Z
UID:21451-1748890800-1748894400@www.feuerwehr-wolfsberg.at
SUMMARY:Übung GRKDT Technisch Tenorio
DESCRIPTION:HLM Megymorecz\nHFM Kainz
URL:https://www.feuerwehr-wolfsberg.at/veranstaltung/uebung-grkdt-technisch-tenorio/
CATEGORIES:Übungen
END:VEVENT
BEGIN:VEVENT
DTSTART;VALUE=DATE:20250524
DTEND;VALUE=DATE:20250526
DTSTAMP:20260424T014543
CREATED:20250407T103646Z
LAST-MODIFIED:20250407T103646Z
UID:21438-1748044800-1748217599@www.feuerwehr-wolfsberg.at
SUMMARY:Feuerwehrfest Wolfsberg
DESCRIPTION:Kameradschaftsführung
URL:https://www.feuerwehr-wolfsberg.at/veranstaltung/feuerwehrfest-wolfsberg/
CATEGORIES:Veranstaltungen
END:VEVENT
BEGIN:VEVENT
DTSTART;TZID=Europe/Berlin:20250512T190000
DTEND;TZID=Europe/Berlin:20250512T200000
DTSTAMP:20260424T014543
CREATED:20250407T103602Z
LAST-MODIFIED:20250407T103602Z
UID:21436-1747076400-1747080000@www.feuerwehr-wolfsberg.at
SUMMARY:Übung ZGKDT Verkehrsunfall MV
DESCRIPTION:HBM Stangl
URL:https://www.feuerwehr-wolfsberg.at/veranstaltung/uebung-zgkdt-verkehrsunfall-mv/
CATEGORIES:Übungen
END:VEVENT
BEGIN:VEVENT
DTSTART;TZID=Europe/Berlin:20250505T190000
DTEND;TZID=Europe/Berlin:20250505T200000
DTSTAMP:20260424T014543
CREATED:20250407T103449Z
LAST-MODIFIED:20250407T103449Z
UID:21434-1746471600-1746475200@www.feuerwehr-wolfsberg.at
SUMMARY:Übung Jungfeuerwehrmänner OBI
DESCRIPTION:OLM Eberhard\nBI Schauer
URL:https://www.feuerwehr-wolfsberg.at/veranstaltung/uebung-jungfeuerwehrmaenner-obi/
CATEGORIES:Jugend,Übungen
END:VEVENT
BEGIN:VEVENT
DTSTART;TZID=Europe/Berlin:20250504T190000
DTEND;TZID=Europe/Berlin:20250504T200000
DTSTAMP:20260424T014543
CREATED:20250407T103311Z
LAST-MODIFIED:20250407T103459Z
UID:21432-1746385200-1746388800@www.feuerwehr-wolfsberg.at
SUMMARY:Übung Aktive und Feuerwehrjugend
DESCRIPTION:OBI Kainz-Pauscha\nBM Kogler
URL:https://www.feuerwehr-wolfsberg.at/veranstaltung/uebung-aktive-und-feuerwehrjugend/
CATEGORIES:Jugend,Übungen
END:VEVENT
BEGIN:VEVENT
DTSTART;TZID=Europe/Berlin:20250428T190000
DTEND;TZID=Europe/Berlin:20250428T200000
DTSTAMP:20260424T014543
CREATED:20250403T080011Z
LAST-MODIFIED:20250407T103025Z
UID:6640-1745866800-1745870400@www.feuerwehr-wolfsberg.at
SUMMARY:Übung GRKDT Verkehrsunfall
DESCRIPTION:BM Kogler\nOFM Klammer
URL:https://www.feuerwehr-wolfsberg.at/veranstaltung/uebung-grkdt-verkehrsunfall/
CATEGORIES:Übungen
END:VEVENT
BEGIN:VEVENT
DTSTART;TZID=Europe/Berlin:20250424T190000
DTEND;TZID=Europe/Berlin:20250424T200000
DTSTAMP:20260424T014543
CREATED:20250403T080017Z
LAST-MODIFIED:20250403T101622Z
UID:6638-1745521200-1745524800@www.feuerwehr-wolfsberg.at
SUMMARY:Übung Chargen Moderne Bauweisen / PV-Anlagen
DESCRIPTION:HBM Stangl
URL:https://www.feuerwehr-wolfsberg.at/veranstaltung/uebung-chargen-moderne-bauweisen-pv-anlagen/
CATEGORIES:Übungen
END:VEVENT
BEGIN:VEVENT
DTSTART;TZID=Europe/Berlin:20250414T190000
DTEND;TZID=Europe/Berlin:20250414T200000
DTSTAMP:20260424T014543
CREATED:20250407T103138Z
LAST-MODIFIED:20250407T103138Z
UID:21430-1744657200-1744660800@www.feuerwehr-wolfsberg.at
SUMMARY:Übung GRKDT Verkehrsunfall XXXLutz
DESCRIPTION:BM Fritzl\nHFM Wiltsche
URL:https://www.feuerwehr-wolfsberg.at/veranstaltung/uebung-grkdt-verkehrsunfall-xxxlutz/
CATEGORIES:Übungen
END:VEVENT
END:VCALENDAR