BEGIN:VCALENDAR
VERSION:2.0
PRODID:-//www.feuerwehr-wolfsberg.at - ECPv6.15.17.1//NONSGML v1.0//EN
CALSCALE:GREGORIAN
METHOD:PUBLISH
X-ORIGINAL-URL:https://www.feuerwehr-wolfsberg.at
X-WR-CALDESC:Veranstaltungen für www.feuerwehr-wolfsberg.at
REFRESH-INTERVAL;VALUE=DURATION:PT1H
X-Robots-Tag:noindex
X-PUBLISHED-TTL:PT1H
BEGIN:VTIMEZONE
TZID:Europe/Berlin
BEGIN:DAYLIGHT
TZOFFSETFROM:+0100
TZOFFSETTO:+0200
TZNAME:CEST
DTSTART:20250330T010000
END:DAYLIGHT
BEGIN:STANDARD
TZOFFSETFROM:+0200
TZOFFSETTO:+0100
TZNAME:CET
DTSTART:20251026T010000
END:STANDARD
BEGIN:DAYLIGHT
TZOFFSETFROM:+0100
TZOFFSETTO:+0200
TZNAME:CEST
DTSTART:20260329T010000
END:DAYLIGHT
BEGIN:STANDARD
TZOFFSETFROM:+0200
TZOFFSETTO:+0100
TZNAME:CET
DTSTART:20261025T010000
END:STANDARD
BEGIN:DAYLIGHT
TZOFFSETFROM:+0100
TZOFFSETTO:+0200
TZNAME:CEST
DTSTART:20270328T010000
END:DAYLIGHT
BEGIN:STANDARD
TZOFFSETFROM:+0200
TZOFFSETTO:+0100
TZNAME:CET
DTSTART:20271031T010000
END:STANDARD
END:VTIMEZONE
BEGIN:VEVENT
DTSTART;TZID=Europe/Berlin:20260504T180000
DTEND;TZID=Europe/Berlin:20260504T210000
DTSTAMP:20260424T014543
CREATED:20251209T145741Z
LAST-MODIFIED:20251209T145741Z
UID:22828-1777917600-1777928400@www.feuerwehr-wolfsberg.at
SUMMARY:Übung Aktive und FWJ
DESCRIPTION:OBI Kainz-Pauscha\nBM Kogler
URL:https://www.feuerwehr-wolfsberg.at/veranstaltung/uebung-aktive-und-fwj/
CATEGORIES:Übungen
END:VEVENT
END:VCALENDAR