BEGIN:VCALENDAR
VERSION:2.0
PRODID:-//www.feuerwehr-wolfsberg.at - ECPv6.15.17.1//NONSGML v1.0//EN
CALSCALE:GREGORIAN
METHOD:PUBLISH
X-WR-CALNAME:www.feuerwehr-wolfsberg.at
X-ORIGINAL-URL:https://www.feuerwehr-wolfsberg.at
X-WR-CALDESC:Veranstaltungen für www.feuerwehr-wolfsberg.at
REFRESH-INTERVAL;VALUE=DURATION:PT1H
X-Robots-Tag:noindex
X-PUBLISHED-TTL:PT1H
BEGIN:VTIMEZONE
TZID:Europe/Berlin
BEGIN:DAYLIGHT
TZOFFSETFROM:+0100
TZOFFSETTO:+0200
TZNAME:CEST
DTSTART:20240331T010000
END:DAYLIGHT
BEGIN:STANDARD
TZOFFSETFROM:+0200
TZOFFSETTO:+0100
TZNAME:CET
DTSTART:20241027T010000
END:STANDARD
BEGIN:DAYLIGHT
TZOFFSETFROM:+0100
TZOFFSETTO:+0200
TZNAME:CEST
DTSTART:20250330T010000
END:DAYLIGHT
BEGIN:STANDARD
TZOFFSETFROM:+0200
TZOFFSETTO:+0100
TZNAME:CET
DTSTART:20251026T010000
END:STANDARD
BEGIN:DAYLIGHT
TZOFFSETFROM:+0100
TZOFFSETTO:+0200
TZNAME:CEST
DTSTART:20260329T010000
END:DAYLIGHT
BEGIN:STANDARD
TZOFFSETFROM:+0200
TZOFFSETTO:+0100
TZNAME:CET
DTSTART:20261025T010000
END:STANDARD
END:VTIMEZONE
BEGIN:VEVENT
DTSTART;TZID=Europe/Berlin:20251002T190000
DTEND;TZID=Europe/Berlin:20251002T210000
DTSTAMP:20260425T220003
CREATED:20250918T132256Z
LAST-MODIFIED:20250918T132256Z
UID:22510-1759431600-1759438800@www.feuerwehr-wolfsberg.at
SUMMARY:Übung Abschnitt St.Margarethen
DESCRIPTION:BM Zarfl R.\nOFM Tripolt S.
URL:https://www.feuerwehr-wolfsberg.at/veranstaltung/uebung-abschnitt-st-margarethen-2/
CATEGORIES:Übungen
END:VEVENT
END:VCALENDAR